BEGIN:VCALENDAR
VERSION:2.0
PRODID:-//ChamberMaster//Event Calendar 2.0//EN
METHOD:PUBLISH
X-PUBLISHED-TTL:P3D
REFRESH-INTERVAL:P3D
CALSCALE:GREGORIAN
BEGIN:VEVENT
DTSTART:20250821T220000Z
DTEND:20250822T000000Z
X-MICROSOFT-CDO-ALLDAYEVENT:FALSE
SUMMARY:Emerging Professional's Trivia Night
DESCRIPTION:Calling all Bronx emerging professionals! Round up your crew and join us for a night of Bronx Business trivia\, prizes\, and good vibes. Show off your smarts\, make new connections\, and compete for bragging rights Let's see what you've got!
X-ALT-DESC;FMTTYPE=text/html:<span class="OYPEnA font-feature-liga-off font-feature-clig-off font-feature-calt-off text-decoration-none text-strikethrough-none" style="font-weight: 700\; font-kerning: none\;">Calling all Bronx emerging professionals! Round up your crew and join us for a night of Bronx Business trivia\, prizes\, and good vibes. Show off your smarts\, make new connections\, and compete for bragging rights</span><span class="OYPEnA font-feature-liga-off font-feature-clig-off font-feature-calt-off text-decoration-none text-strikethrough-none white-space-prewrap" style="font-weight: 700\; font-kerning: none\;"> </span><span class="OYPEnA font-feature-liga-off font-feature-clig-off font-feature-calt-off text-decoration-none text-strikethrough-none" style="font-weight: 700\; font-kerning: none\;">Let&rsquo\;s see what you&rsquo\;ve got!</span>
LOCATION:Sankofa Haus | 2422 Third Ave\, Bronx\, NY 10454
UID:e.1983.4208
SEQUENCE:3
DTSTAMP:20260423T204345Z
URL:https://business.bronxchamber.org/events/details/emerging-professional-s-trivia-night-4208
END:VEVENT

END:VCALENDAR
