BEGIN:VCALENDAR
VERSION:2.0
PRODID:-//ChamberMaster//Event Calendar 2.0//EN
METHOD:PUBLISH
X-PUBLISHED-TTL:P3D
REFRESH-INTERVAL:P3D
CALSCALE:GREGORIAN
BEGIN:VEVENT
DTSTART:20260325T213000Z
DTEND:20260325T233000Z
X-MICROSOFT-CDO-ALLDAYEVENT:FALSE
SUMMARY:HERSTORY: Bronx Women in Business Share their recipe for success
DESCRIPTION:Join us for an inspiring evening celebrating the power\, leadership\, and resilience of women in business across the Bronx.\n\nHerStory 2026 brings together accomplished women leaders for a dynamic panel discussion focused on entrepreneurship\, leadership\, career growth\, and building meaningful professional relationships. Our panelists will share their personal journeys\, lessons learned\, challenges faced\, and the strategies that helped them succeed in their industries.\n\nWhether you are an entrepreneur\, corporate professional\, nonprofit leader\, student\, or aspiring business owner\, this event is designed to provide practical insights\, real-world advice\, and valuable connections.
X-ALT-DESC;FMTTYPE=text/html:<p data-end="289" data-start="168">Join us for an inspiring evening celebrating the power\, leadership\, and resilience of women in business across the Bronx.</p>\n\n<p data-end="636" data-start="291">HerStory 2026 brings together accomplished women leaders for a dynamic panel discussion focused on entrepreneurship\, leadership\, career growth\, and building meaningful professional relationships. Our panelists will share their personal journeys\, lessons learned\, challenges faced\, and the strategies that helped them succeed in their industries.</p>\n\n<p data-end="848" data-start="638">Whether you are an entrepreneur\, corporate professional\, nonprofit leader\, student\, or aspiring business owner\, this event is designed to provide practical insights\, real-world advice\, and valuable connections.</p>\n
LOCATION:Chase Concourse Community Branch | 128 E Fordham Rd\, Bronx\, NY 10468
UID:e.1983.4351
SEQUENCE:3
DTSTAMP:20260419T120906Z
URL:https://business.bronxchamber.org/events/details/herstory-bronx-women-in-business-share-their-recipe-for-success-4351
END:VEVENT

END:VCALENDAR
