BEGIN:VCALENDAR
VERSION:2.0
PRODID:-//ChamberMaster//Event Calendar 2.0//EN
METHOD:PUBLISH
X-PUBLISHED-TTL:P3D
REFRESH-INTERVAL:P3D
CALSCALE:GREGORIAN
BEGIN:VEVENT
DTSTART:20261203T233000Z
DTEND:20261204T040000Z
X-MICROSOFT-CDO-ALLDAYEVENT:FALSE
SUMMARY:Holiday Party & Toy Drive
DESCRIPTION:Join the Bronx Chamber of Commerce for our renowned annual holiday party and do some good for the community while you're at it. The evening features a cocktail reception\, dinner\, dancing\, open bar\, and fun surprises for you and your team to enjoy.\n\n \n\n\n\nAll guest must bring an unwrapped toy to contribute to our holiday toy drive
X-ALT-DESC;FMTTYPE=text/html:<p><span style="color: rgb(51\, 51\, 51)\; font-family: arial\; font-size: 14px\; background-color: rgb(255\, 255\, 255)\;">Join the&nbsp\;</span><span style="font-family: arial\; font-size: 14px\; background-color: rgb(255\, 255\, 255)\; color: rgb(255\, 140\, 0)\;"><strong>Bronx Chamber of Commerce</strong></span><span style="color: rgb(51\, 51\, 51)\; font-family: arial\; font-size: 14px\; background-color: rgb(255\, 255\, 255)\;">&nbsp\;for our renowned annual holiday party and do some good for the community while you&#39\;re at it. The evening features a cocktail reception\, dinner\, dancing\, open bar\, and fun surprises for you and your team to enjoy.</span></p>\n\n<p>&nbsp\;</p>\n\n<p><br />\n<span style="color: rgb(255\, 0\, 0)\;"><span class="a_GcMg font-feature-liga-off font-feature-clig-off font-feature-calt-off text-decoration-none text-strikethrough-none" style="caret-color: rgb(204\, 163\, 0)\; --Ys-XuQ: none\; font-weight: 700\; font-kerning: normal\;">All guest must bring an unwrapped toy to contribute to our holiday toy drive</span></span></p>\n
LOCATION:Pelham Bay and Split Rock Golf Course 870 Shore Rd Bronx\, NY 10464
UID:e.1983.4324
SEQUENCE:3
DTSTAMP:20260425T111627Z
URL:https://business.bronxchamber.org/events/details/holiday-party-toy-drive-4324
END:VEVENT

END:VCALENDAR
