BEGIN:VCALENDAR
VERSION:2.0
PRODID:-//ChamberMaster//Event Calendar 2.0//EN
METHOD:PUBLISH
X-PUBLISHED-TTL:P3D
REFRESH-INTERVAL:P3D
CALSCALE:GREGORIAN
BEGIN:VEVENT
DTSTART:20260501T140000Z
DTEND:20260501T160000Z
X-MICROSOFT-CDO-ALLDAYEVENT:FALSE
SUMMARY:Ponce Bank | Protect Your Legacy! A Free Financial Mastery Webinar
DESCRIPTION:Join us on\, Friday\, May 1st\, as we walk you through how to get your financial house in order. Jumpstart your path to generational wealth today! Topics include:\n\n	Personal Financial Management\n	Wills\, Trusts & Elder Care Planning\n	Building Intergenerational Wealth through Insurance
X-ALT-DESC;FMTTYPE=text/html:Join us on\, Friday\, May 1st\, as we walk you through how to get your financial house in order. Jumpstart your path to generational wealth today!&nbsp\;Topics include:\n<ul>\n	<li>Personal Financial Management</li>\n	<li>Wills\, Trusts &amp\; Elder Care Planning</li>\n	<li>Building Intergenerational Wealth through Insurance</li>\n</ul>\n
LOCATION:Online/Register Directly Here: https://us06web.zoom.us/meeting/register/meIorykqTYmP32_nQGcQng#/registration
UID:e.1983.4361
SEQUENCE:3
DTSTAMP:20260420T235945Z
URL:https://business.bronxchamber.org/events/details/protect-your-legacy-a-free-financial-mastery-webinar-4361
END:VEVENT

END:VCALENDAR
